Workbook

Sheet 表1   “十四五”规划投资汇总表
B5: 附表1 “十四五”规划投资汇总表
B6: 序号 | C6: 分项工程 | D6: 项目名称 | E6: 建设内容 | F6: “十四五”规划投资（万元） | G6: 备注
B7: 一 | C7: 防洪排涝 | D7: 水库新扩建工程 | E7: 新建及扩建中、小型水库 | F7: ='表1-1 水库新扩建工程规划及投资表'!H16 -> 208980
D8: 水库加固提升工程 | E8: 小型水库加固提升 | F8: ='表1-2 水库加固提升工程规划及投资表'!G24 -> 1870
D9: 病险水闸除险加固工程 | E9: 大、中型水闸加固 | F9: ='表1-3 病险水闸除险加固工程规划及投资表'!G22 -> 53591
D10: 堤防工程建设工程 | E10: 河道堤防加固 | F10: ='表1-4 堤防工程建设规划及投资表 '!H12 -> 136000
D11: 排涝能力提升泵站工程 | E11: 排涝泵站新建及改造 | F11: ='表1-5 排涝能力提升泵站工程规划及投资表 '!F18 -> 21356.5
D12: 排涝能力提升撇洪渠及排渍渠工程 | E12: 撇洪渠及排渍渠整治 | F12: ='表1-6 排涝能力提升撇洪渠及排渍渠工程规划及投资表'!F17 -> 2631
D13: 中小河流治理工程 | E13: 中小河流整治 | F13: =' 表1-7 中小河流治理工程规划及投资表'!G10 -> 27460
D14: 山洪灾害防治工程 | E14: 山洪沟整治 | F14: ='表1-8 山洪灾害防治工程规划及投资表 '!F9 -> 13760 | H14: =SUM(F7:F15) -> 532648.5
D15: 蓄滞洪区建设 | E15: 分洪闸等蓄滞洪设施建设 | F15: ='表1-9 蓄滞洪区建设规划及投资表'!F8 -> 67000
D16: 小计 | F16: =SUM(F7:F15) -> 532648.5
B17: 二 | C17: 供水保障 | D17: 农村饮水安全巩固提升工程 | E17: 农村安全饮水巩固 | F17: ='表2-1 农村饮水安全巩固提升工程规划和投资表 (2)'!G10 -> 110372.09
D18: 大中型灌区节水改造工程 | E18: 大中型灌区节水改造 | F18: ='表2-2 大中型灌区节水改造工程规划及投资表'!G12 -> 53445
D19: 水源及水资源配置工程 | E19: 引水渠提质及生态补水 | F19: ='表2-3 水源及水资源配置工程规划和投资表'!F10 -> 1800
D20: 引调水工程 | E20: 水库引水 | F20: ='表2-4 引调水工程规划及投资表'!F8 -> 8000
D21: 大中型灌排泵站更新改造工程 | E21: 大中型灌排泵站更新改造 | F21: ='表2-5 大中型灌排泵站更新改造工程规划及投资表 '!F9 -> 3260 | H21: =SUM(F17:F21) -> 176877.09
D22: 小计 | F22: =SUM(F17:F21) -> 176877.09
B23: 三 | C23: 水生态保护与修复 | D23: 水域生态修复工程 | E23: 湿地建设 | F23: ='表3-1 水域生态修复工程规划及投资表'!F17 -> 72600
D24: 水土保持规划项目 | E24: 水土保持建设 | F24: ='表3-2 水土保持规划项目及投资表'!F15 -> 26140
D25: 农村水系综合治理工程 | E25: 集雨面积小于200km2的村河道整治 | F25: ='表3-3 农村水系综合治理工程规划及投资表 '!G14 -> 23580
D26: 小微水体管护示范片区建设 | E26: 乡镇小微水体建设 | F26: ='表3-4 小微水体管护示范片区建设规划的投资表 '!F8 -> 2900 | H26: =SUM(F23:F26) -> 125220
D27: 小计 | F27: =SUM(F23:F26) -> 125220
B28: 四 | C28: 大中型水库移民后期扶持项目 | D28: 大中型水库移民后期扶持 | E28: 大中型水库移民后期扶持 | F28: 2332.8
B29: 五 | C29: 水利信息化及管理 | D29: 水利工程信息化建设 | E29: 水利工程信息化建设 | F29: =' 表5-水利工程信息化（监测预报预警通信系统等 ）建设投资表'!I17 -> 17450
D30: 水利基础设施提升工程 | E30: 水利基础设施提升 | F30: ='表5-2 水利基础设施提升规划及投资表'!F10 -> 1300
D31: 水利工程维护管理 | E31: 水利工程维护管理 | F31: ='表5-3 水利工程维护管理规划及投资表 '!G11 -> 3900 | H31: =SUM(F29:F31) -> 22650
D32: 小计 | F32: =SUM(F29:F31) -> 22650
B33: 总计 | F33: =F16+F22+F27+F28+F32 -> 859728.39

Sheet 表1-1 水库新扩建工程规划及投资表
B5: 附表1-1 水库新扩建工程规划及投资表
B6: 序号 | C6: 项目名称 | D6: 所在乡镇 | E6: 水库规模 | F6: 建设性质 | G6: 建设内容 | H6: “十四五”规划投资（万元） | I6: 实施年限 | J6: 前期工作开展情况 | K6: 备注
E7: （大/中/小型）
B8: 1 | C8: 红泥湖水库 | D8: 煤炭坝镇 | E8: 小（Ⅰ） | F8: 新建 | G8: 新建小（Ⅰ）水库 | H8: 4560 | I8: 2020～2025 | J8: 暂未开展
B9: 2 | C9: 清水塘水库 | D9: 灰汤镇 | E9: 小（Ⅰ） | F9: 新建 | G9: 新建小（Ⅰ）水库 | H9: 3960 | I9: 2020～2025 | J9: 暂未开展
B10: 3 | C10: 红旗坳水库 | D10: 青山桥镇 | E10: 小（Ⅰ） | F10: 新建 | G10: 新建小（Ⅰ）水库 | H10: 5550 | I10: 2020～2025 | J10: 暂未开展
B11: 4 | C11: 赤土塘水库 | D11: 花明楼镇 | E11: 小（Ⅱ） | F11: 新建 | G11: 新建小（Ⅱ）水库 | H11: 2400 | I11: 2020～2025 | J11: 暂未开展
B12: 5 | C12: 儒家塘水库 | D12: 大屯营镇 | E12: 小（Ⅱ） | F12: 新建 | G12: 新建小（Ⅱ）水库 | H12: 1260 | I12: 2020～2025 | J12: 暂未开展
B13: 5 | C13: 梅溪水库 | D13: 黄材镇 | E13: 小（Ⅱ） | F13: 扩建 | G13: 扩建小（Ⅱ）水库 | H13: 600 | I13: 2020～2025 | J13: 暂未开展
B14: 7 | C14: 文佳冲水库 | D14: 坝塘镇 | E14: 小（Ⅰ） | F14: 扩建 | G14: 扩建小（Ⅰ）水库 | H14: 10650 | I14: 2020～2025 | J14: 已制定方案
B15: 8 | C15: 大坝塘水库 | D15: 黄材镇 | E15: 中 | F15: 新建 | G15: 新建中型水库 | H15: 180000 | I15: 2020～2025 | J15: 已制定方案
B16: 小计 | H16: =SUM(H8:H15) -> 208980

Sheet 表1-2 水库加固提升工程规划及投资表
B5: 附表1-2 水库加固提升工程规划及投资表
B6: 序号 | C6: 项目名称 | D6: 所在乡镇 | E6: 水库规模 | F6: 建设内容 | G6: “十四五”规划投资（万元） | H6: 前期工作开展情况 | I6: 备注
E7: （大/中/小型）
B8: 1 | C8: 雷公塘 | D8: 道林镇 | E8: 小（Ⅱ）型 | F8: 1、帷幕灌浆；2、输水涵洞开挖重建 | G8: 80 | H8: 2014年进行了除险加固
B9: 2 | C9: 保泉 | D9: 资福镇 | E9: 小（Ⅱ）型 | F9: 1、帷幕灌浆；2、溢洪道只拓宽整修控制段；3、贴坡排水改为排水沟 | G9: 130 | H9: 2014年进行了除险加固
B10: 3 | C10: 新塘 | D10: 资福镇 | E10: 小（Ⅱ）型 | F10: 1、帷幕灌浆；2、冲抓回填；3、溢洪道重建；4、内坡脚抛石 | G10: 110 | H10: 2014年进行了除险加固
B11: 4 | C11: 合建 | D11: 龙田镇 | E11: 小（Ⅱ）型 | F11: 1、改为堆石排水棱体；2、库内清淤按2米实施；3、高压旋喷灌浆；4、溢洪道泄槽段调整（取消渡槽） | G11: 130 | H11: 2014年进行了除险加固
B12: 5 | C12: 杨梅 | D12: 黄材镇 | E12: 小（Ⅱ）型 | F12: 1、帷幕灌浆及冲抓回填只搞坝体左侧70米；2、溢洪道改为整修；3、隔水墙；4、隧洞改为箱涵。 | G12: 200 | H12: 2014年进行了除险加固
B13: 6 | C13: 泉塘 | D13: 老粮仓镇 | E13: 小（Ⅱ）型 | F13: 1、内坡斜墙，改为外坡培厚；2、帷幕灌浆;3、溢洪道只加固进口及控制段； | G13: 80 | H13: 2014年进行了除险加固
B14: 7 | C14: 大塘 | D14: 喻家坳乡 | E14: 小（Ⅱ）型 | F14: 1、贴坡排水及帷幕灌浆；2、冲抓回填只作坝体左半部；3、坝体加高，溢洪道拓宽 | G14: 170 | H14: 2014年进行了除险加固
B15: 8 | C15: 湴冲水库 | D15: 青山桥镇 | E15: 小（Ⅱ）型 | F15: 1、帷幕灌浆；2、输水涵洞开挖重建 | G15: 120 | H15: 暂未开展
B16: 9 | C16: 光辉水库 | D16: 黄材镇 | E16: 小（Ⅱ）型 | F16: 1、帷幕灌浆；2、溢洪道重建；3、内坡脚抛石 | G16: 110 | H16: 暂未开展
B17: 10 | C17: 廖家湖水库 | D17: 双江口镇 | E17: 小（Ⅱ）型 | F17: 1、冲抓回填；2、溢洪道重建；3、内坡脚抛石 | G17: 110 | H17: 暂未开展
B18: 11 | C18: 双田水库 | D18: 老粮仓镇 | E18: 小（Ⅱ）型 | F18: 1、溢洪道重建；2、内坡脚抛石 | G18: 110 | H18: 暂未开展
B19: 12 | C19: 金元水库 | D19: 花明楼镇 | E19: 小（Ⅱ）型 | F19: 1、帷幕灌浆； 2、内坡脚抛石 | G19: 120 | H19: 暂未开展
... B23: 16 | C23: 木家冲水库 | D23: 巷子口镇 | E23: 小（Ⅱ）型 | F23: 1、帷幕灌浆；2、冲抓回填；3、溢洪道重建；4、内坡脚抛石 | G23: 120 | H23: 暂未开展
B24: 小计 | G24: =SUM(G8:G23) -> 1870

Sheet 表1-3  病险水闸除险加固工程规划及投资表
B5: 附表1-3 病险水闸除险加固工程规划及投资表
B6: 序号 | C6: 项目名称 | D6: 所在乡镇 | E6: 水闸规模 | F6: 建设内容 | G6: “十四五”规划投资（万元） | H6: 前期工作开展情况 | I6: 备注
E7: （大/中/小型）
B8: 1 | C8: 太阳水闸 | D8: 大成桥镇 | E8: 大 | F8: 改造 | G8: 5000 | H8: 规划待批
B9: 2 | C9: 陶公水闸 | D9: 横市镇 | E9: 大 | F9: 改造 | G9: 4000
B10: 3 | C10: 俄山水闸 | D10: 大成桥镇 | E10: 大 | F10: 改造 | G10: 4552
B11: 4 | C11: 前丰水闸 | D11: 双凫铺镇 | E11: 大 | F11: 改造 | G11: 4953
B12: 5 | C12: 沩丰水闸 | D12: 城郊街道 | E12: 大 | F12: 改造 | G12: 10986
B13: 6 | C13: 东风坝 | D13: 坝塘镇 | E13: 中 | F13: 改造 | G13: 3100 | H13: 安全评价已通过水利部核查
B14: 7 | C14: 四清水闸（乌江） | D14: 资福镇 | E14: 中 | F14: 改造 | G14: 3030 | H14: 安全评价已通过水利部核查
B15: 8 | C15: 刘家水闸 | D15: 灰汤镇 | E15: 中 | F15: 改造 | G15: 2360 | H15: 安全评价已通过水利部核查
B16: 9 | C16: 檀木坝水闸 | D16: 资福镇 | E16: 中 | F16: 改造 | G16: 2570 | H16: 规划待批
B17: 10 | C17: 朱家水闸 | D17: 灰汤镇 | E17: 中 | F17: 改造 | G17: 2050 | H17: 安全评价已通过水利部核查
B18: 11 | C18: 石板山水闸 | D18: 灰汤镇 | E18: 中 | F18: 改造 | G18: 2000 | H18: 安全评价已通过水利部核查
B19: 12 | C19: 苍乌水闸 | D19: 灰汤镇 | E19: 中 | F19: 改造 | G19: 3000 | H19: 安全评价已通过水利部核查
B20: 13 | C20: 农林水闸 | D20: 流沙河镇 | E20: 中 | F20: 改造 | G20: 3050 | H20: 安全评价已通过水利部核查
B21: 14 | C21: 大屯水闸 | D21: 大屯营镇 | E21: 中 | F21: 改造 | G21: 2940 | H21: 安全评价已通过水利部核查
B22: 小计 | G22: =SUM(G8:G21) -> 53591

Sheet 表1-4    堤防工程建设规划及投资表 
B5: 附表1-4 堤防工程建设规划及投资表
B6: 序号 | C6: 项目名称 | D6: 所在乡镇（街道） | E6: 堤防性质 | F6: 建设内容 | G6: 防洪标准 | H6: “十四五”规划投资（万元） | I6: 前期工作开展情况 | J6: 备注
B7: 1 | C7: 沩水 | D7: 玉潭镇 | E7: 城市防洪 | F7: 麻拐石至三水厂堤防加固、溜子洲大桥上游至幸福渠堤防加固 | G7: 50年一遇 | H7: 90000 | I7: 已完成规划设计
B8: 2 | C8: 沩水 | D8: 双江口镇 | E8: 重点堤垸 | F8: 烂泥湖垸一线防洪大堤14.39 km堤防加固 | G8: 宁乡站1969年实测最高洪水位 | H8: 27000 | I8: 已完成可研设计
B9: 3 | C9: 曾家河 | D9: 历经铺街道 | E9: 城市防洪 | F9: 8.0km堤防加固 | G9: 20年一遇 | H9: 13000 | I9: 已完成规划设计
B10: 4 | C10: 崔坪水 | D10: 黄材镇 | E10: 农村河道 | F10: 6.0km堤防加固 | G10: 20年一遇 | H10: 3600 | I10: 暂未开展
B11: 5 | C11: 铁冲河 | D11: 横市镇 | E11: 农村河道 | F11: 4.0km堤防加固 | G11: 10年一遇 | H11: 2400 | I11: 暂未开展
B12: 小计 | H12: =SUM(H7:H11) -> 136000
B13: 填表说明：建设内容应包括治理堤段的起始点位置及长度等相内容，堤防性质填写农村堤垸或城市防洪

Sheet 表1-5   排涝能力提升泵站工程规划及投资表 
B5: 附表1-5 排涝能力提升泵站工程规划及投资表
B6: 序号 | C6: 项目名称 | D6: 所在乡镇（街道） | E6: 建设内容 | F6: “十四五”规划投资（万元） | G6: 实施年限 | H6: 前期工作开展情况 | I6: 备注
B7: 1 | C7: 幸福渠 | D7: 回龙铺镇 | E7: 新建排涝泵站（装机818KW，设计流量25.01m3/s） | F7: 1620 | G7: 2020～2025 | H7: 已完成规划设计
B8: 2 | C8: 东河 | D8: 双江口镇 | E8: 新建排涝泵站（装机1000KW，设计流量17.30m3/s） | F8: 1360 | G8: 2020～2025 | H8: 已完成规划设计
B9: 3 | C9: 历泉河 | D9: 双江口镇 | E9: 新建排涝泵站（装机550KW，设计流量13.50m3/s） | F9: 1088 | G9: 2020～2025 | H9: 已完成规划设计
B10: 4 | C10: 灭漯河 | D10: 回龙铺镇 | E10: 新建排涝泵站（装机651KW，设计流量17.32m3/s） | F10: 1288.5 | G10: 2020～2025 | H10: 已完成规划设计
B11: 5 | C11: 民兵渠 | D11: 玉潭街道 | E11: 新建排涝泵站（装机2000KW，设计流量22.50m3/s） | F11: 5000 | G11: 2020～2025 | H11: 已完成规划设计 | L11: =1000+1000+550+650+2000+400+2700+900 -> 9200
B12: 6 | C12: 正龙溪 | D12: 玉潭街道 | E12: 新建排涝泵站（装机400KW，设计流量3.44m3/s） | F12: 1000 | G12: 2020～2025 | H12: 已完成规划设计
B13: 7 | C13: 朝阳溪 | D13: 玉潭街道 | E13: 新建排涝泵站（装机2700KW，设计流量28.70m3/s） | F13: 6750 | G13: 2020～2025 | H13: 已完成规划设计
B14: 8 | C14: 化龙溪 | D14: 玉潭街道 | E14: 新建排涝泵站（装机900KW，设计流量14.30m3/s） | F14: 2250 | G14: 2020～2025 | H14: 已完成规划设计
B15: 9 | C15: 朱家大山 | D15: 双江口镇 | E15: 泵站扩建 | F15: 400 | G15: 2020～2025 | H15: 暂未开展
B16: 10 | C16: 闸坝湖 | D16: 双江口镇 | E16: 更新改造 | F16: 300 | G16: 2020～2025 | H16: 暂未开展
B17: 11 | C17: 周家湾 | D17: 双江口镇 | E17: 更新改造 | F17: 300 | G17: 2020～2025 | H17: 暂未开展
B18: 小计 | F18: =SUM(F7:F17) -> 21356.5
B19: 填表说明：建设内容应包括泵站的流量及装机等相关内容

Sheet 表1-6    排涝能力提升撇洪渠及排渍渠工程规划及投资表
B5: 附表1-6 排涝能力提升撇洪渠及排渍渠工程规划及投资表
B6: 序号 | C6: 项目名称 | D6: 所在乡镇（街道） | E6: 建设内容 | F6: “十四五”规划投资（万元） | G6: 前期工作开展情况 | H6: 备注
B7: 1 | C7: 六十里长冲河 | D7: 双江口镇 | E7: 河道整治5km | F7: 500 | G7: 暂未开展
B8: 2 | C8: 周家湾泵站排水渠 | D8: 双江口镇 | E8: 渠道整治0.6km | F8: 50 | G8: 暂未开展
B9: 3 | C9: 正农溪 | D9: 玉潭街道 | E9: 河道整治1.5km | F9: 150 | G9: 暂未开展
B10: 4 | C10: 朝阳溪 | D10: 玉潭街道 | E10: 河道整治2.2km | F10: 220 | G10: 暂未开展
B11: 5 | C11: 化龙溪 | D11: 玉潭街道 | E11: 河道整治2.1km | F11: 210 | G11: 暂未开展
B12: 6 | C12: 东沩溪 | D12: 玉潭街道 | E12: 河道整治1.4km | F12: 140 | G12: 暂未开展
B13: 7 | C13: 民兵渠 | D13: 玉潭街道 | E13: 河道整治2.4km | F13: 240 | G13: 暂未开展
B14: 8 | C14: 东河 | D14: 城郊街道 | E14: 河道整治7.01km | F14: 701 | G14: 暂未开展
B15: 9 | C15: 历泉河 | D15: 城郊街道 | E15: 河道整治2.2km | F15: 220 | G15: 暂未开展
B16: 10 | C16: 曾家河 | D16: 城郊街道 | E16: 河道整治4km | F16: 200 | G16: 已完成规划设计
B17: 小计 | F17: =SUM(F7:F16) -> 2631
B18: 填表说明：建设内容应包括治理渠道的起始点位置及长度等相内容

Sheet  表1-7  中小河流治理工程规划及投资表
B5: 附表1-7 中小河流治理工程规划及投资表
B6: 序号 | C6: 项目名称 | D6: 所在县 （市、区） | E6: 类别 | F6: 建设内容 | G6: “十四五”规划投资（万元） | H6: 前期工作开展情况 | I6: 备注
B8: 1 | C8: 乌江流域综合治理工程 | D8: 宁乡市 | E8: 中小河流 | F8: 河道整治清淤长度15.2km，新建堤防、护岸14km，堤防、护岸加固35.9km，新建穿堤建筑物10处、涵闸改造21处。 | G8: 12480 | H8: 暂未开展
B9: 2 | C9: 靳江流域综合治理工程 | D9: 宁乡市 | E9: 中小河流 | F9: 加高加固堤身49.6km、护坡护岸55km、护脚16.8km、清淤疏浚18km、涵闸改造30处 | G9: 14980 | H9: 暂未开展
B10: 小计 | G10: =SUM(G8:G9) -> 27460
B11: 填表说明：建设内容应包括治理河道的起始点位置及长度等相内容，类别为重要支流、中小河流、农村水系，中小河流为集雨面积为200-3000Km2的河流。

Sheet 表1-8    山洪灾害防治工程规划及投资表 
B5: 附表1-8 山洪灾害防治工程规划及投资表
B6: 序号 | C6: 项目名称 | D6: 所在县 （市、区） | E6: 建设内容 | F6: “十四五”规划投资（万元） | G6: 实施年限 | H6: 前期工作开展情况 | I6: 备注
B7: 1 | C7: 山洪沟治理工程 | D7: 宁乡市 | E7: 治理巷子水、七里水等山洪沟8条、109.9km，其中堤防加固111.6km、岸坡防护142.9km、清淤疏浚93.4km。 | F7: 11080 | G7: 2020～2025 | H7: 暂未开展
B8: 2 | C8: 山洪灾害防治非工程措施 | D8: 宁乡市 | E8: 防汛指挥调度通讯系统建设、防汛应急三维电子沙盘系统、水文站网和预报系统建设、监测系统建设、预报预警系统建设、应急保障系统建设、群测群防体系完善。 | F8: 2680 | G8: 2020～2025 | H8: 暂未开展
B9: 小计 | F9: =SUM(F7:F8) -> 13760

Sheet 表1-9    蓄滞洪区建设规划及投资表
B5: 附表1-9 蓄滞洪区建设规划及投资表
B6: 序号 | C6: 项目名称 | D6: 所在县 （市、区） | E6: 建设内容 | F6: “十四五”规划投资（万元） | G6: 实施年限 | H6: 前期工作开展情况 | I6: 备注
B7: 1 | C7: 双凫铺、横市、回龙铺、坝塘、白马桥等9处蓄滞洪区建设 | D7: 宁乡市 | E7: 分洪闸等蓄滞洪设施建设 | F7: 67000 | G7: 2020～2025 | H7: 暂未开展
B8: 小计 | F8: =SUM(F7:F7) -> 67000

Sheet 表2-1   农村饮水安全巩固提升工程规划和投资表 (2)
B5: 附表2-1 农村饮水安全巩固提升工程规划和投资表
B6: 序号 | C6: 工程类型 | F6: 工程名称 | G6: 总投资 | H6: 其中，水源工程投资 | J6: 其中，水厂投资 | M6: 其中，输配水管网投资 | P6: 计量装置投资 | S6: 规模化水厂能力建设投资
H7: 建设投资 | I7: 划、立、治投资 | J7: 水厂投资 | K7: 其中，水质净化和消毒设施设备投资 | M7: 小计 | N7: 村级以上管网 | O7: 村内管网（不含入户管） | P7: 小计 | Q7: 进、出水厂水计量装置 | R7: 入户水表 | S7: 水质化验室 | T7: 自动化监控系统
K8: 净化设施设备 | L8: 消毒设备
B9: 1 | C9: 2 | F9: 3 | G9: 4 | H9: 5 | I9: 6 | J9: 7 | K9: 8 | L9: 9 | M9: 10 | N9: 11 | O9: 12 | P9: 13 | Q9: 14 | R9: 15 | S9: 16 | T9: 17
B10: 宁乡市合计 | F10: / | G10: =G11+G16+G33+G37 -> 110372.09 | H10: =H11+H16+H33+H37 -> 666.4053 | I10: =I11+I16+I33+I37 -> 817.40725 | J10: =J11+J16+J33+J37 -> 13315.627 | K10: =K11+K16+K33+K37 -> 3225.9507 | L10: =L11+L16+L33+L37 -> 2651.8938 | M10: =M11+M16+M33+M37 -> 83031.355 | N10: =N11+N16+N33+N37 -> 43402.453 | ... T10: =T11+T16+T33+T37 -> 467.98125
B11: 1 | C11: 规模化工程 | D11: 城乡一体化工程（农村部分） | E11: 小计 | F11: / | G11: =SUM(G12:G15) -> 26499.657 | H11: =SUM(H12:H15) -> 124.795 | I11: =SUM(I12:I15) -> 187.1925 | J11: =SUM(J12:J15) -> 2495.9 | K11: =SUM(K12:K15) -> 1497.54 | L11: =SUM(L12:L15) -> 1497.54 | M11: =SUM(M12:M15) -> 18869.254 | N11: =SUM(N12:N15) -> 11250.269 | ... T11: =SUM(T12:T15) -> 124.795
E12: 1 | F12: 新建回龙铺镇白金水厂 | G12: 15307.916 | H12: 0 | I12: 37.4385 | J12: 2495.9 | K12: 1497.54 | L12: 1497.54 | M12: 8727.6631 | N12: 5241.39 | O12: 3486.2731 | P12: 677.44935 | Q12: 62.3975 | R12: 615.05185 | S12: 249.59 | T12: 124.795
E13: 2 | F13: 宁乡市正农水厂管网延伸 | G13: 4273.0522 | H13: 0 | I13: 62.3975 | J13: 0 | K13: 0 | L13: 0 | M13: 3878.2542 | N13: 2328.6747 | O13: 1549.5795 | P13: 332.40053 | Q13: 0 | R13: 332.40053 | S13: 0 | T13: 0
E14: 3 | F14: 宁乡市南太湖水厂管网延伸 | G14: 6306.9699 | H14: 0 | I14: 62.3975 | J14: 0 | K14: 0 | L14: 0 | M14: 5817.1941 | N14: 3493.012 | O14: 2324.1821 | P14: 427.37826 | Q14: 0 | R14: 427.37826 | S14: 0 | T14: 0
E15: 4 | F15: 坝塘镇南田坪水厂管网延伸工程 | G15: 611.71857 | H15: 124.795 | I15: 24.959 | J15: 0 | K15: 0 | L15: 0 | M15: 446.14213 | N15: 187.1925 | O15: 258.94963 | P15: 15.822446 | Q15: 0 | R15: 15.822446 | S15: 0 | T15: 0
D16: 万人工程 | E16: 小计 | F16: / | G16: 80223.842 | H16: 541.6103 | I16: 499.18 | J16: 10258.149 | K16: 1510.0195 | L16: 1023.319 | M16: 61900.192 | N16: 31029.029 | O16: 30871.163 | P16: 3368.2174 | Q16: 224.631 | R16: 3143.5864 | S16: 848.606 | T16: 274.549
E17: 1 | F17: 新建黄材二水厂 | G17: 11969.971 | H17: 0 | I17: 62.3975 | J17: 2495.9 | K17: 374.385 | L17: 249.59 | M17: 8330.0662 | N17: 4118.235 | O17: 4211.8313 | P17: 370.27581 | Q17: 24.959 | R17: 345.31681 | S17: 62.3975 | T17: 24.959
E18: 2 | F18: 铁冲水厂管网延伸 | G18: 7403.5127 | H18: 0 | I18: 62.3975 | J18: 0 | K18: 0 | L18: 0 | M18: 7113.315 | N18: 3668.973 | O18: 3444.342 | P18: 227.80017 | Q18: 0 | R18: 227.80017 | S18: 0 | T18: 0
E19: 3 | F19: 双凫铺水厂管网延伸 | G19: 439.92921 | H19: 0 | I19: 24.959 | J19: 0 | K19: 0 | L19: 0 | M19: 404.3358 | N19: 217.1433 | O19: 187.1925 | P19: 10.634406 | Q19: 0 | R19: 10.634406 | S19: 0 | T19: 0
E20: 4 | F20: 田坪水厂扩建 | G20: 14608.396 | H20: 0 | I20: 62.3975 | J20: 1247.95 | K20: 249.59 | L20: 187.1925 | M20: 12101.371 | N20: 6679.0284 | O20: 5422.3427 | P20: 672.53835 | Q20: 24.959 | R20: 647.57935 | S20: 62.3975 | T20: 24.959
E21: 5 | F21: 洞庭桥水厂扩建 | G21: 7528.1813 | H21: 249.59 | I21: 24.959 | J21: 499.18 | K21: 62.3975 | L21: 37.4385 | M21: 6364.545 | N21: 2995.08 | O21: 3369.465 | P21: 202.71481 | Q21: 12.4795 | R21: 190.23531 | S21: 62.3975 | T21: 24.959
E22: 6 | F22: 流沙河水厂管网延伸 | G22: 1196.9113 | H22: 0 | I22: 24.959 | J22: 0 | K22: 0 | L22: 0 | M22: 1132.5146 | N22: 561.5775 | O22: 570.93713 | P22: 39.437716 | Q22: 0 | R22: 39.437716 | S22: 0 | T22: 0
E23: 7 | F23: 灰汤水厂扩建 | G23: 5819.7259 | H23: 0 | I23: 37.4385 | J23: 1198.032 | K23: 149.754 | L23: 112.3155 | M23: 3957.2494 | N23: 1617.3432 | O23: 2339.9062 | P23: 277.57996 | Q23: 24.959 | R23: 252.62096 | S23: 62.3975 | T23: 24.959
E24: 8 | F24: 新建资福镇窑里水厂 | G24: 3603.3667 | H24: 0 | I24: 24.959 | J24: 1247.95 | K24: 124.795 | L24: 74.877 | M24: 1703.4517 | N24: 1048.278 | O24: 655.17375 | P24: 277.57996 | Q24: 24.959 | R24: 252.62096 | S24: 124.795 | T24: 24.959
E25: 9 | F25: 双狮岭水厂扩建 | G25: 6197.7752 | H25: 0 | I25: 24.959 | J25: 499.18 | K25: 124.795 | L25: 74.877 | M25: 4818.335 | N25: 2216.3592 | O25: 2601.9758 | P25: 505.87525 | Q25: 24.959 | R25: 480.91625 | S25: 124.795 | T25: 24.959
E26: 10 | F26: 花明楼水厂管网延伸 | G26: 2222.7446 | H26: 0 | I26: 12.4795 | J26: 0 | K26: 0 | L26: 0 | M26: 2133.9945 | N26: 1123.155 | O26: 1010.8395 | P26: 76.270648 | Q26: 0 | R26: 76.270648 | S26: 0 | T26: 0
E27: 11 | F27: 白云寺水厂管网延伸 | G27: 2589.0654 | H27: 104.8278 | I27: 12.4795 | J27: 0 | K27: 0 | L27: 0 | M27: 2386.7044 | N27: 1198.032 | O27: 1188.6724 | P27: 85.05372 | Q27: 0 | R27: 85.05372 | S27: 0 | T27: 0
E28: 12 | F28: 新建道林镇道林二水厂 | G28: 2783.203 | H28: 0 | I28: 24.959 | J28: 748.77 | K28: 99.836 | L28: 62.3975 | M28: 1621.711 | N28: 688.8684 | O28: 932.84262 | P28: 100.73452 | Q28: 24.959 | R28: 75.775524 | S28: 99.836 | T28: 24.959
... E32: 16 | F32: 沩山水厂扩建 | G32: 2936.9608 | H32: 187.1925 | I32: 24.959 | J32: 499.18 | K32: 62.3975 | L32: 37.4385 | M32: 1946.802 | N32: 1010.8395 | O32: 935.9625 | P32: 91.634785 | Q32: 12.4795 | R32: 79.155285 | S32: 62.3975 | T32: 24.959
B33: 2 | C33: 小型供水工程 | D33: 千人工程 | E33: 小计 | F33: / | G33: =SUM(G34:G36) -> 2768.7842 | H33: =SUM(H34:H36) -> 0 | I33: =SUM(I34:I36) -> 37.4385 | J33: =SUM(J34:J36) -> 0 | K33: =SUM(K34:K36) -> 124.795 | L33: =SUM(L34:L36) -> 74.877 | M33: =SUM(M34:M36) -> 2261.9094 | N33: =SUM(N34:N36) -> 1123.155 | ... T33: =SUM(T34:T36) -> 49.918
E34: 1 | F34: 沙田水厂扩容提质 | G34: 989.3941 | H34: 0 | I34: 12.4795 | J34: 0 | K34: 62.3975 | L34: 37.4385 | M34: 764.36937 | N34: 374.385 | O34: 389.98438 | P34: 25.352728 | Q34: 12.4795 | R34: 12.873228 | S34: 62.3975 | T34: 24.959
E35: 2 | F35: 资福水厂扩容提质 | G35: 1050.8307 | H35: 0 | I35: 12.4795 | J35: 0 | K35: 62.3975 | L35: 37.4385 | M35: 811.1675 | N35: 411.8235 | O35: 399.344 | P35: 39.991182 | Q35: 12.4795 | R35: 27.511682 | S35: 62.3975 | T35: 24.959
E36: 3 | F36: 道林水厂管网延伸工程 | G36: 728.55945 | H36: 0 | I36: 12.4795 | J36: 0 | K36: 0 | L36: 0 | M36: 686.3725 | N36: 336.9465 | O36: 349.426 | P36: 29.70745 | Q36: 0 | R36: 29.70745 | S36: 0 | T36: 0
B37: 3 | C37: 老旧供水工程和管网更新改造 | D37: 千人以下集中工程 | E37: 小计 | F37: / | G37: =SUM(G38:G52) -> 879.80475 | H37: =SUM(H38:H52) -> 0 | I37: =SUM(I38:I52) -> 93.59625 | J37: =SUM(J38:J52) -> 561.5775 | K37: =SUM(K38:K52) -> 93.59625 | L37: =SUM(L38:L52) -> 56.15775 | M37: =SUM(M38:M52) -> 0 | N37: =SUM(N38:N52) -> 0 | ... T37: =SUM(T38:T52) -> 18.71925
E38: 1 | F38: 巷子口镇金枫园村饮水工程提质改造 | G38: 58.65365 | H38: 0 | I38: 6.23975 | J38: 37.4385 | K38: 6.23975 | L38: 3.74385 | M38: 0 | N38: 0 | O38: 0 | P38: 1.24795 | Q38: 1.24795 | R38: 0 | S38: 2.4959 | T38: 1.24795
E39: 2 | F39: 巷子口镇联花村塔子坑组饮水工程提质改造 | G39: 58.65365 | H39: 0 | I39: 6.23975 | J39: 37.4385 | K39: 6.23975 | L39: 3.74385 | M39: 0 | N39: 0 | O39: 0 | P39: 1.24795 | Q39: 1.24795 | R39: 0 | S39: 2.4959 | T39: 1.24795
E40: 3 | F40: 沩山乡移民集镇饮水工程提质改造 | G40: 58.65365 | H40: 0 | I40: 6.23975 | J40: 37.4385 | K40: 6.23975 | L40: 3.74385 | M40: 0 | N40: 0 | O40: 0 | P40: 1.24795 | Q40: 1.24795 | R40: 0 | S40: 2.4959 | T40: 1.24795
E41: 4 | F41: 黄材镇沩滨新村饮水工程提质改造 | G41: 58.65365 | H41: 0 | I41: 6.23975 | J41: 37.4385 | K41: 6.23975 | L41: 3.74385 | M41: 0 | N41: 0 | O41: 0 | P41: 1.24795 | Q41: 1.24795 | R41: 0 | S41: 2.4959 | T41: 1.24795
E42: 5 | F42: 喻家坳乡湖溪塘村饮水工程提质改造 | G42: 58.65365 | H42: 0 | I42: 6.23975 | J42: 37.4385 | K42: 6.23975 | L42: 3.74385 | M42: 0 | N42: 0 | O42: 0 | P42: 1.24795 | Q42: 1.24795 | R42: 0 | S42: 2.4959 | T42: 1.24795
E43: 6 | F43: 喻家坳乡太平山村饮水工程提质改造 | G43: 58.65365 | H43: 0 | I43: 6.23975 | J43: 37.4385 | K43: 6.23975 | L43: 3.74385 | M43: 0 | N43: 0 | O43: 0 | P43: 1.24795 | Q43: 1.24795 | R43: 0 | S43: 2.4959 | T43: 1.24795
E44: 7 | F44: 双凫铺镇粟江村饮水工程提质改造 | G44: 58.65365 | H44: 0 | I44: 6.23975 | J44: 37.4385 | K44: 6.23975 | L44: 3.74385 | M44: 0 | N44: 0 | O44: 0 | P44: 1.24795 | Q44: 1.24795 | R44: 0 | S44: 2.4959 | T44: 1.24795
E45: 8 | F45: 老粮仓镇双藕村八组饮水工程提质改造 | G45: 58.65365 | H45: 0 | I45: 6.23975 | J45: 37.4385 | K45: 6.23975 | L45: 3.74385 | M45: 0 | N45: 0 | O45: 0 | P45: 1.24795 | Q45: 1.24795 | R45: 0 | S45: 2.4959 | T45: 1.24795
E46: 9 | F46: 老粮仓镇双藕村宇峰组饮水工程提质改造 | G46: 58.65365 | H46: 0 | I46: 6.23975 | J46: 37.4385 | K46: 6.23975 | L46: 3.74385 | M46: 0 | N46: 0 | O46: 0 | P46: 1.24795 | Q46: 1.24795 | R46: 0 | S46: 2.4959 | T46: 1.24795
E47: 10 | F47: 东湖塘镇泉塘湾村饮水工程提质改造 | G47: 58.65365 | H47: 0 | I47: 6.23975 | J47: 37.4385 | K47: 6.23975 | L47: 3.74385 | M47: 0 | N47: 0 | O47: 0 | P47: 1.24795 | Q47: 1.24795 | R47: 0 | S47: 2.4959 | T47: 1.24795
E48: 11 | F48: 东湖塘镇陶家湾村饮水工程提质改造 | G48: 58.65365 | H48: 0 | I48: 6.23975 | J48: 37.4385 | K48: 6.23975 | L48: 3.74385 | M48: 0 | N48: 0 | O48: 0 | P48: 1.24795 | Q48: 1.24795 | R48: 0 | S48: 2.4959 | T48: 1.24795
E49: 12 | F49: 东湖塘镇麻山村饮水工程提质改造 | G49: 58.65365 | H49: 0 | I49: 6.23975 | J49: 37.4385 | K49: 6.23975 | L49: 3.74385 | M49: 0 | N49: 0 | O49: 0 | P49: 1.24795 | Q49: 1.24795 | R49: 0 | S49: 2.4959 | T49: 1.24795
... E52: 15 | F52: 资福镇清泉河村饮水工程提质改造 | G52: 58.65365 | H52: 0 | I52: 6.23975 | J52: 37.4385 | K52: 6.23975 | L52: 3.74385 | M52: 0 | N52: 0 | O52: 0 | P52: 1.24795 | Q52: 1.24795 | R52: 0 | S52: 2.4959 | T52: 1.24795

Sheet 表2-2  大中型灌区节水改造工程规划及投资表
B5: 附表2-2 大中型灌区节水改造工程规划及投资表
B6: 序号 | C6: 项目名称 | D6: 所在县 （市、区） | E6: 灌区规模 | F6: 建设内容 | G6: “十四五”规划投资（万元） | H6: 实施年限 | I6: 前期工作开展情况 | J6: 备注
E7: （大/中型）
B8: 1 | C8: 黄材灌区 | D8: 宁乡市 | E8: 大 | F8: 灌溉渠道（防渗衬砌285km、除险加固53km）、排水沟（渠）加固改造63km、建筑物除险加固745座 | G8: 35213 | H8: 2020～2025 | I8: 暂未开展
B9: 2 | C9: 韶山灌区 | D9: 宁乡市 | E9: 大 | F9: 灌溉渠道（防渗衬砌34km、除险加固6km）、排水沟（渠）加固改造33km、建筑物除险加固161座 | G9: 4003 | H9: 2020～2025 | I9: 暂未开展
B10: 3 | C10: 田坪灌区 | D10: 宁乡市 | E10: 中 | F10: 灌溉渠道（防渗衬砌177km、除险加固80km）、排水沟（渠）加固改造98km、建筑物除险加固271座 | G10: 9841 | H10: 2020～2025 | I10: 暂未开展
B11: 4 | C11: 洞庭桥灌区 | D11: 宁乡市 | E11: 中 | F11: 灌溉渠道（防渗衬砌45km、除险加固56km）、新建排水沟（渠）7km、排水沟（渠）加固改造9km、建筑物除险加固138座 | G11: 4388 | H11: 2020～2025 | I11: 暂未开展
B12: 小计 | G12: =SUM(G8:G11) -> 53445
B13: 填表说明：建设内容应包括治理渠道的数量长度，及主要渠系建筑物的数量等相内容

Sheet 表2-3 水源及水资源配置工程规划和投资表
B5: 附表2-3 水源及水资源配置工程规划和投资表
B6: 序号 | C6: 项目名称 | D6: 所在县 （市、区） | E6: 建设内容 | F6: “十四五”规划投资（万元） | G6: 实施年限 | H6: 前期工作开展情况 | I6: 备注
B7: 1 | C7: 洞庭桥水库引水渠提质改造 | D7: 宁乡市 | E7: 引水渠防渗衬砌、引水渠外坡加固、隧洞清淤等 | F7: 600 | G7: 2020～2025 | H7: 暂未开展
B8: 2 | C8: 白云寺补水工程 | D8: 宁乡市 | E8: 新建泵站 | F8: 600 | G8: 2020～2025 | H8: 暂未开展
B9: 3 | C9: 华光水库引水渠恢复工程 | D9: 宁乡市 | E9: 引水渠防渗衬砌、引水渠外坡加固、渠道清淤等 | F9: 600 | G9: 2020～2025 | H9: 暂未开展
B10: 小计 | F10: =SUM(F7:F9) -> 1800

Sheet 表2-4   引调水工程规划及投资表
B5: 附表2-4 引调水工程规划及投资表
B6: 序号 | C6: 项目名称 | D6: 所在县 （市、区） | E6: 建设内容 | F6: “十四五”规划投资（万元） | G6: 实施年限 | H6: 前期工作开展情况 | I6: 备注
B7: 1 | C7: 田坪水库引水工程 | D7: 宁乡市流沙河镇 | E7: 新建渠道2km，隧洞8km。严重干旱期从冬塘河应急引水259.62万m³，可作为田坪水库灌区18.22万群众基本生活保障用水以及部分农田灌溉保障用水。 | F7: 8000 | G7: 1 | H7: 已完成规划设计
B8: 小计 | F8: 8000

Sheet 表2-5  大中型灌排泵站更新改造工程规划及投资表  
B5: 附表2-5 大中型灌排泵站更新改造工程规划及投资表
B6: 序号 | C6: 项目名称 | D6: 所在县 （市、区） | E6: 建设内容 | F6: “十四五”规划投资（万元） | G6: 实施年限 | H6: 前期工作开展情况 | I6: 备注
B7: 1 | C7: 煤炭坝矿井抽水工程 | D7: 宁乡市 | E7: 泵站的流量3m3/s，采用两级泵站，一级泵站三台潜水泵，单机功率400kw，二级泵站采用3台离心泵，单机功率1250kw。 | F7: 2050 | G7: 2020～2025 | H7: 已制定方案 | I7: 集中式
B8: 2 | C8: 韶花泵站工程 | D8: 宁乡市 | E8: 泵站总流量11.84m3/s，装机台数24台，总装机容量5090kw。对主体建筑维护，机电设备维护和更新，建筑景观及电气设备更新以及运行管理规章制度更新等。 | F8: 1210 | G8: 2020～2025 | H8: 已制定实施方案
B9: 小计 | F9: =SUM(F7:F8) -> 3260
B10: 填表说明：建设内容应包括泵站的流量及装机等相关内容

Sheet 表3-1  水域生态修复工程规划及投资表
B5: 附表3-1 水域生态修复工程规划及投资表
B6: 序号 | C6: 项目名称 | D6: 所在县 （市、区） | E6: 建设内容 | F6: “十四五”规划投资（万元） | G6: 实施年限 | H6: 前期工作开展情况 | I6: 备注
B7: 1 | C7: 金洲湖湿地 | D7: 宁乡市 | E7: 通过保护、采取生态技术、生态工程对湿地进行恢复，依托库区自然环境和城市景观及沿河风光带，形成集滨水景观、湿地生态旅游、发电和防洪抗汛等功能于一体。 | F7: 1200 | G7: 2020～2025 | H7: 暂未开展 | I7: 沩水城区段水生态文明建设工程中已规划投资
B8: 2 | C8: 闸坝湖湿地 | D8: 宁乡市 | E8: 通过10km河道整治、水域湿地扩展、截污治污、绿化、交通配套、园林景观建设等措施有效恢复水体生态环境，达到水清景美的效果。 | F8: 8000 | G8: 2020～2025 | H8: 暂未开展
B9: 3 | C9: 群英垸沩水故道河道整治与水系连通工程 | D9: 宁乡市 | E9: 8km沩水故道，东河、历泉河等水系的岸线整治，水系连通，河湖疏浚，小区域湿地建设，交通配套。 | F9: 15000 | G9: 2020～2025 | H9: 暂未开展
B10: 4 | C10: 闸坝湖及团头湖水源保护工程 | D10: 宁乡市 | E10: 15km2水域清淤整治、截污治污、湿地建设等措施达到Ⅲ类水标准。 | F10: 12000 | G10: 2020～2025 | H10: 暂未开展
B11: 5 | C11: 双江口镇刘家洲湿地 | D11: 宁乡市 | E11: 新建双江口镇刘家洲湿地 | F11: 4000 | G11: 2020～2025 | H11: 暂未开展
B12: 6 | C12: 金洲镇八曲河湿地 | D12: 宁乡市 | E12: 新建金洲镇八曲河湿地 | F12: 3800 | G12: 2020～2025 | H12: 暂未开展
B13: 7 | C13: 夏铎铺镇官桥河湿地 | D13: 宁乡市 | E13: 新建夏铎铺镇官桥河湿地 | F13: 4500 | G13: 2020～2025 | H13: 暂未开展
B14: 8 | C14: 历经铺镇东河湿地 | D14: 宁乡市 | E14: 新建历经铺镇东河湿地 | F14: 4000 | G14: 2020～2025 | H14: 暂未开展
B15: 9 | C15: 黄材镇炭河里湿地 | D15: 宁乡市 | E15: 新建黄材镇炭河里湿地 | F15: 5100 | G15: 2020～2025 | H15: 暂未开展
B16: 10 | C16: 乡镇集镇湿地 | D16: 宁乡市 | E16: 除玉潭、白马桥、城郊、历经铺4个街道以外的25个乡镇结合各乡镇集镇污水处理厂建设，各新建一处湿地（面积20~30亩）。 | F16: 15000 | G16: 2020～2025 | H16: 暂未开展 | I16: 污水处理厂投资未计入
B17: 小计 | F17: =SUM(F7:F16) -> 72600

Sheet 表3-2 水土保持规划项目及投资表
B5: 附表3-2 水土保持规划项目及投资表
B6: 序号 | C6: 项目名称 | D6: 所在乡镇 | E6: 建设内容 | F6: “十四五”规划投资（万元） | G6: 实施年限 | H6: 前期工作开展情况 | I6: 备注
B7: 1 | C7: 边山坝河小流域治理 | D7: 大屯营镇 | E7: 河道修复2.5km，流域内山塘整治、生态沟渠、截排水沟渠、生产便道以及人工湿地等。新增水土流失治理面积10.25km2。 | F7: 640 | G7: 2020～2025 | H7: 暂未开展
B8: 2 | C8: 铁冲河小流域治理 | D8: 横市镇 | E8: 河道修复2.0km，流域内山塘整治、生态沟渠、截排水沟渠、生产便道以及人工湿地等。新增水土流失治理面积10.18km2。 | F8: 640 | G8: 2020～2025 | H8: 暂未开展
B9: 3 | C9: 粟溪河小流域治理 | D9: 双凫铺镇 | E9: 河道修复2.8km，流域内山塘整治、生态沟渠、截排水沟渠、生产便道以及人工湿地等。新增水土流失治理面积14.71km2。 | F9: 640 | G9: 2020～2025 | H9: 暂未开展
B10: 4 | C10: 在凤河小流域治理 | D10: 东湖塘镇 | E10: 河道修复2.5km，流域内山塘整治、生态沟渠、截排水沟渠、生产便道以及人工湿地等。新增水土流失治理面积10.85km2。 | F10: 640 | G10: 2020～2025 | H10: 暂未开展
B11: 5 | C11: 清泉河小流域治理 | D11: 资福镇 | E11: 河道修复2.5km，流域内山塘整治、生态沟渠、截排水沟渠、生产便道以及人工湿地等。新增水土流失治理面积13.05km2。 | F11: 640 | G11: 2020～2025 | H11: 暂未开展
B12: 6 | C12: 五里堆水小流域治理 | D12: 巷子口镇 | E12: 河道修复2.8km，流域内山塘整治、生态沟渠、截排水沟渠、生产便道以及人工湿地等。新增水土流失治理面积11.53km2。 | F12: 640 | G12: 2020～2025 | H12: 暂未开展
B13: 7 | C13: 扬华江小流域治理 | D13: 老粮仓镇 | E13: 河道修复21.5km，流域内山塘整治、生态沟渠、截排水沟渠、生产便道以及人工湿地等。新增水土流失治理面积12.42km2。 | F13: 11500 | G13: 2020～2025 | H13: 暂未开展
B14: 8 | C14: 草冲河小流域治理 | D14: 流沙河镇 | E14: 河道修复12.1km，流域内山塘整治、生态沟渠、截排水沟渠、生产便道以及人工湿地等。新增水土流失治理面积9.7km2。 | F14: 10800 | G14: 2020～2025 | H14: 暂未开展
B15: 小计 | F15: =SUM(F7:F14) -> 26140

Sheet 表3-3 农村水系综合治理工程规划及投资表 
B5: 附表3-3 农村水系综合治理工程规划及投资表
B6: 序号 | C6: 项目名称 | D6: 所在县 （市、区） | E6: 类别 | F6: 建设内容 | G6: “十四五”规划投资（万元） | H6: 前期工作开展情况 | I6: 备注
B7: 1 | C7: 黄涓水 | D7: 宁乡市 | E7: 农村水系 | F7: 黄绢水入沩水河口以上5km堤防加固 | G7: 3000 | H7: 暂未开展
B8: 2 | C8: 夏铎铺水入八曲河口（0+000）~319国道（9+700） | D8: 宁乡市 | E8: 农村水系 | F8: 堤防加固及新建长1.4km；河道护坡护脚18.26km；河道清淤疏浚4.019km；河坝拆除重建4座，新建景观河坝1座；农村排涝圆涵改造38处，拍门安装12张；灌溉泵站拆除重建6处，总装机21kW；左、右岸防汛道路共新建18.26km，新建桥涵2处；配备必要的管理设施 | G8: 10140 | H8: 已完成初步设计
B9: 3 | C9: 灭螺河入沩水河口（0+000）~太阳山（8+300） | D9: 宁乡市 | E9: 农村水系 | F9: 加高加固堤身8.3km、护坡护岸8.3km、护脚8.3km、清淤疏浚8km、涵闸改造2处 | G9: 3320 | H9: 暂未开展
B10: 4 | C10: 坝塘水 | D10: 宁乡市 | E10: 农村水系 | F10: 坝塘水入沩水河口以上5km堤防加固 | G10: 1500 | H10: 暂未开展
B11: 5 | C11: 幸福渠入沩水口（0+000）~回龙铺镇上（5+230） | D11: 宁乡市 | E11: 农村水系 | F11: 加高加固堤身5.3km、护坡护岸5.3km、护脚5.3km、清淤疏浚5km、涵闸改造2处 | G11: 2620 | H11: 暂未开展
B12: 6 | C12: 回龙铺水 | D12: 宁乡市 | E12: 农村水系 | F12: 回龙铺水入沩水河口以上3km堤防加固 | G12: 1200 | H12: 暂未开展
B13: 7 | C13: 白龙河 | D13: 宁乡市 | E13: 农村水系 | F13: 白龙河入沩水河口以上5km堤防加固 | G13: 1800 | H13: 暂未开展
B14: 小计 | G14: =SUM(G7:G13) -> 23580
B15: 填表说明：建设内容应包括治理河道的起始点位置及长度等相内容，类别为重要支流、中小河流、农村水系，农村水系为集雨面积小于200km2的河流

Sheet 表3-4   小微水体管护示范片区建设规划的投资表  
B5: 附表3-4 小微水体管护示范片区建设规划的投资表
B6: 序号 | C6: 项目名称 | D6: 所在县 （市、区） | E6: 建设内容 | F6: “十四五”规划投资（万元） | G6: 实施年限 | H6: 前期工作开展情况 | I6: 备注
B7: 1 | C7: 小微水体示范片区建设 | D7: 宁乡市 | E7: 25个乡镇（街道）继续推广小微水体管护经验，打造小微水体管护范片区 | F7: 2900 | G7: 2020～2025 | H7: 2019年已完成首批29个示范片区建设，示范区内小微水体管护水平得到质的提升，2020年继续打造示范片区，加强农村治水工作，通过示范片区的引领作用，提升小微水体管护水平。
B8: 小计 | F8: 2900

Sheet 表4-1 大中型水库移民后期扶持人口分年度规划表
B5: 附表4-1 大中型水库移民后期扶持人口分年度规划表 单位：人
B6: 序号 | C6: 所在乡镇（街道） | D6: 2021年 | G6: 2022年 | J6: 2023年 | M6: 2024年 | P6: 2025年
D7: 核定移民人数 | E7: 直补到人移民人数 | F7: 预测直补人口核减 | G7: 核定移民人数 | H7: 直补到人移民人数 | I7: 预测直补人口核减 | J7: 核定移民人数 | K7: 直补到人移民人数 | L7: 预测直补人口核减 | M7: 核定移民人数 | N7: 直补到人移民人数 | O7: 预测直补人口核减 | P7: 核定移民人数 | Q7: 直补到人移民人数 | R7: 预测直补人口核减
B8: 1 | C8: 玉潭街道 | D8: 15 | E8: 15 | F8: 2 | G8: 14 | H8: 14 | I8: 1 | J8: 14 | K8: 14 | L8: 0 | M8: 13 | N8: 13 | O8: 1 | P8: 12 | Q8: 12 | R8: 1
B9: 2 | C9: 城郊街道 | D9: 57 | E9: 57 | F9: 3 | G9: 55 | H9: 55 | I9: 2 | J9: 52 | K9: 52 | L9: 3 | M9: 50 | N9: 50 | O9: 2 | P9: 49 | Q9: 49 | R9: 1
B10: 3 | C10: 白马桥街道 | D10: 170 | E10: 170 | F10: 7 | G10: 165 | H10: 165 | I10: 5 | J10: 160 | K10: 160 | L10: 5 | M10: 155 | N10: 155 | O10: 5 | P10: 150 | Q10: 150 | R10: 5
B11: 4 | C11: 历经铺街道 | D11: 200 | E11: 200 | F11: 6 | G11: 198 | H11: 198 | I11: 2 | J11: 197 | K11: 197 | L11: 1 | M11: 194 | N11: 194 | O11: 3 | P11: 190 | Q11: 190 | R11: 4
B12: 5 | C12: 道林镇 | D12: 88 | E12: 88 | F12: 2 | G12: 78 | H12: 78 | I12: 2 | J12: 77 | K12: 77 | L12: 1 | M12: 75 | N12: 75 | O12: 2 | P12: 73 | Q12: 73 | R12: 2
B13: 6 | C13: 花明楼镇 | D13: 70 | E13: 70 | F13: 8 | G13: 65 | H13: 65 | I13: 5 | J13: 63 | K13: 63 | L13: 2 | M13: 60 | N13: 60 | O13: 3 | P13: 77 | Q13: 77 | R13: 3
B14: 7 | C14: 东湖塘镇 | D14: 37 | E14: 37 | F14: 4 | G14: 35 | H14: 35 | I14: 2 | J14: 34 | K14: 34 | L14: 1 | M14: 33 | N14: 33 | O14: 1 | P14: 32 | Q14: 32 | R14: 1
B15: 8 | C15: 夏铎铺镇 | D15: 26 | E15: 26 | F15: 3 | G15: 25 | H15: 25 | I15: 1 | J15: 24 | K15: 24 | L15: 1 | M15: 23 | N15: 23 | O15: 1 | P15: 21 | Q15: 21 | R15: 2
B16: 9 | C16: 双江口镇 | D16: 732 | E16: 732 | F16: 3 | G16: 730 | H16: 730 | I16: 2 | J16: 725 | K16: 725 | L16: 5 | M16: 720 | N16: 720 | O16: 5 | P16: 715 | Q16: 715 | R16: 5
B17: 10 | C17: 煤炭坝镇 | D17: 115 | E17: 115 | F17: 2 | G17: 112 | H17: 112 | I17: 3 | J17: 110 | K17: 110 | L17: 2 | M17: 107 | N17: 107 | O17: 3 | P17: 104 | Q17: 104 | R17: 3
B18: 11 | C18: 坝塘镇 | D18: 30 | E18: 30 | F18: 1 | G18: 28 | H18: 28 | I18: 2 | J18: 27 | K18: 27 | L18: 1 | M18: 26 | N18: 26 | O18: 1 | P18: 25 | Q18: 25 | R18: 1
B19: 12 | C19: 灰汤镇 | D19: 1275 | E19: 1275 | F19: 5 | G19: 1273 | H19: 1273 | I19: 2 | J19: 1270 | K19: 1270 | L19: 3 | M19: 1267 | N19: 1267 | O19: 3 | P19: 1265 | Q19: 1265 | R19: 2
... B36: 29 | C36: 沙田乡 | D36: 290 | E36: 290 | F36: 1 | G36: 288 | H36: 288 | I36: 2 | J36: 286 | K36: 286 | L36: 2 | M36: 285 | N36: 285 | O36: 1 | P36: 284 | Q36: 284 | R36: 1
B37: 小计 | D37: =SUM(D8:D36) -> 13867 | E37: =SUM(E8:E36) -> 13847 | F37: =SUM(F8:F36) -> 82 | G37: =SUM(G8:G36) -> 13790 | H37: =SUM(H8:H36) -> 13790 | I37: =SUM(I8:I36) -> 68 | J37: =SUM(J8:J36) -> 13726 | K37: =SUM(K8:K36) -> 13726 | ... R37: =SUM(R8:R36) -> 68
F42: =F37+I37+L37+O37+R37 -> 353

Sheet 表4-2  大中型水库移民后期扶持十四五规划项目表
B5: 附表4-2 大中型水库移民后期扶持十四五规划项目表
B6: 序号 | C6: 区县（市） | D6: 项目类别及投入资金 | E6: 备注
B7: 1 | C7: 宁乡市 | D7: 到县项目642万元
B8: 2 | C8: 宁乡市 | D8: 精准扶贫推进重点村建设310万元
B9: 3 | C9: 宁乡市 | D9: 避险解困240万元
B10: 4 | C10: 宁乡市 | D10: 遗留问题处理48万元
B11: 5 | C11: 宁乡市 | D11: 监测评估11万元
B12: 6 | C12: 宁乡市 | D12: 大中型水库移民后期扶持1081.8万元
B13: 小计 | D13: 2332.8万元

Sheet   表5-水利工程信息化（监测预报预警通信系统等 ）建设投资表
B5: 附表5-1 水利工程信息化（监测预报预警通信系统等 ）建设投资表
B6: 序号 | C6: 项目名称 | D6: 所在县（市、区） | E6: 工程规模 | F6: 工程类别（水库、堤防、水闸、泵站等） | G6: 实施年限 | H6: 建设内容 | I6: “十四五”规划投资（万元） | J6: 备注
B7: 1 | C7: 宁乡市中型水库信息化管理系统建设项目 | D7: 宁乡市 | E7: 中型 | F7: 水库 | G7: 2020～2025 | H7: 田坪、洞庭桥两座中型水库信息化管理系统建设 | I7: 400
B8: 2 | C8: 宁乡市小型水库信息化管理系统建设项目 | D8: 宁乡市 | E8: 小型 | F8: 水库 | G8: 2020～2025 | H8: 32座小（1）型水库信息化管理系统建设 | I8: 1600
B9: 3 | C9: 宁乡市大型水闸信息化管理系统建设项目 | D9: 宁乡市 | E9: 大型 | F9: 水闸 | G9: 2020～2025 | H9: 12座大型水闸信息化管理系统建设 | I9: 2400
B10: 4 | C10: 宁乡市中型水闸信息化管理系统建设项目 | D10: 宁乡市 | E10: 中型 | F10: 水闸 | G10: 2020～2025 | H10: 33座中型水闸信息化管理系统建设 | I10: 1650
B11: 5 | C11: 宁乡市重点灌区信息化管理系统建设项目 | D11: 宁乡市 | F11: 其他 | G11: 2020～2025 | H11: 大型灌区韶山灌区及中型灌区田坪灌区信息化管理系统建设 | I11: 1200
B12: 6 | C12: 靳江流域预警预报系统建设 | D12: 宁乡市 | F12: 堤防 | G12: 2020～2025 | H12: 新建预警预报设备及系统 | I12: 1200
B13: 7 | C13: 小流域水土保持监测与管理 | D13: 宁乡市 | F13: 其他 | G13: 2020～2025 | H13: 监测网建设、系统建设 | I13: 1000
B14: 8 | C14: 办公自动化系统 | D14: 宁乡市 | F14: 其他 | G14: 2020～2025 | H14: 办公自动化，实现无纸化办公 | I14: 2000
B15: 9 | C15: 水利业务信息管理平台建设 | D15: 宁乡市 | F15: 其他 | G15: 2020～2025 | H15: 移动信息平台、水务重点地区视频监控、完善平台数据整合、水务政务综合应用、资源共享服务体系建设。 | I15: 5000
B16: 10 | C16: 信息化保障体系建设 | D16: 宁乡市 | F16: 其他 | G16: 2020～2025 | H16: 研究开发信息化建设设和管理体系、完善水务信息化标准体系、建立人才培训与保障体系、加强安全体系建设。 | I16: 1000
B17: 小计 | I17: =SUM(I7:I16) -> 17450

Sheet 表5-2  水利基础设施提升规划及投资表
B5: 附表5-2 水利基础设施提升规划及投资表
B6: 序号 | C6: 项目名称 | D6: 所在县 （市、区） | E6: 建设内容 | F6: “十四五”规划投资（万元） | G6: 实施年限 | H6: 前期工作开展情况 | I6: 备注
B7: 1 | C7: 水文站建设 | D7: 宁乡市 | E7: 新建6处水文站 | F7: 900 | G7: 2020～2025 | H7: 暂未开展
B8: 2 | C8: 管理所建设 | D8: 宁乡市 | E8: 对管理所危房进行改造 | F8: 300 | G8: 2020～2025 | H8: 暂未开展
B9: 3 | C9: 基础量测设施建设 | D9: 宁乡市 | E9: 增设基础量测设施、更换老旧量测设施 | F9: 100 | G9: 2020～2025 | H9: 暂未开展
B10: 小计 | F10: =SUM(F7:F9) -> 1300

Sheet 表5-3  水利工程维护管理规划及投资表 
B5: 附表5-3 水利工程维护管理规划及投资表
B6: 序号 | C6: 项目名称 | D6: 所在县 （市、区） | E6: 工程类别（水库、堤防、水闸、泵站等） | F6: 维修养护内容 | G6: “十四五”规划投资（万元） | H6: 备注
B7: 1 | C7: 水库工程维护管理建设 | D7: 宁乡市 | E7: 水库 | F7: 水库管理设备设施维修养护，档案管理 | G7: 1500 | H7: 暂未开展
B8: 2 | C8: 堤防工程维护管理建设 | D8: 宁乡市 | E8: 堤防 | F8: 堤防及附属建筑物日常信息管理维护，档案管理 | G8: 1000 | H8: 暂未开展
B9: 3 | C9: 泵站工程维护管理建设 | D9: 宁乡市 | E9: 泵站 | F9: 泵站运行管理维护，档案管理 | G9: 200 | H9: 暂未开展
B10: 4 | C10: 安全饮水工程维护管理建设 | D10: 宁乡市 | E10: 安全饮水 | F10: 安全饮水档案管理 | G10: 1200 | H10: 暂未开展
B11: 小计 | G11: =SUM(G7:G10) -> 3900

Sheet Sheet1

Sheet 水系
A1: 宁乡市主要河流统计表
A2: 序号 | B2: 河流名称 | C2: 所在流域 | D2: 流域面积(km2) | E2: 河流长度(km) | F2: 河流坡降（‰） | G2: 河源地点 | H2: 流经主要地点 | I2: 河口地点
A5: 1 | B5: 沩水 | C5: 湘江 | D5: 2784 | E5: 144 | F5: 1.16 | G5: 宁乡市扶王山 | H5: 宁乡县:北龙潭、莲花桥、黄材、横市、双凫铺、宁乡县城、双江口 | I5: 望城区高塘岭
A6: 2 | B6: 靳江 | C6: 湘江 | D6: 781 | E6: 85 | F6: 0.55 | G6: 湘乡市大湖 | H6: 湘乡市大湖，宁乡:在此山、麻山桥、合家坪、大屯营、新埠头、道林、石林桥 | I6: 长沙市岳麓区柏家洲
A7: 3 | B7: 楚江 | C7: 沩水 | D7: 416 | E7: 49 | F7: 3.25 | G7: 宁乡市扇子排 | H7: 宁乡市田坪、太和桥、青山桥、流沙河、唐市、老粮仓、滩山铺 | I7: 宁乡市江家湾
A8: 4 | B8: 扬华江 | C8: 楚江 | D8: 62.11 | E8: 21.48 | F8: 14.37 | G8: 檀山湾 | H8: 心田、高山、赤塅、新建桥、大田方、田坪里 | I8: 花门楼
A9: 5 | B9: 乌江 | C9: 沩水 | D9: 587 | E9: 66 | F9: 1.05 | G9: 湘乡市羚羊山 | H9: 湘乡市,宁乡市:石螺山、灰汤、檀木桥、石坝子、粜米洲 | I9: 宁乡市打鼓垄
A10: 6 | B10: 金家湾水 | C10: 乌江 | D10: 74.6 | E10: 12.06 | F10: 5.3333333 | G10: 宁乡市新塘湾 | H10: 金家坪、茶子山、枫木桥、吴家湾 | I10: 杨柳湾
A11: 7 | B11: 巷子水 | C11: 沩水 | D11: 62.09 | E11: 13.45 | F11: 42.67658 | G11: 十字界 | H11: 渭水湾、巷子口集镇、直田 | I11: 下花石湾
A12: 8 | B12: 七里水 | C12: 沩水 | D12: 145 | E12: 22.1 | F12: 19.6 | G12: 黄家湾 | H12: 隔山冲、七里山、江家滩、金家湾 | I12: 金家湾
A13: 9 | B13: 北源水 | C13: 沩水 | D13: 52.5 | E13: 18.36 | F13: 17.8 | G13: 沩山乡黄田冲 | H13: 密印寺、门前湾里、白叶坡、小龙潭水库、严家坳上、胡家仑 | I13: 小龙潭
A14: 10 | B14: 塅溪水 | C14: 沩水 | D14: 56 | E14: 14.956 | F14: 4.91 | G14: 猴公冲 | H14: 泌滔湾、塅溪、汪子湾 | I14: 梅子滩
A15: 11 | B15: 崔坪水 | C15: 沩水 | D15: 55.5 | E15: 19.791 | F15: 18.164881 | G15: 通溪仑 | H15: 唐家湾、郭家庙、横塘冲 | I15: 茶亭子
A16: 12 | B16: 铁冲水 | C16: 沩水 | D16: 57.9 | E16: 11.5 | F16: 28.686869 | G16: 姜家湾 | H16: 关圣村、石湾里、孟家屋场、横市集镇 | I16: 秦家湾
... A27: 23 | B27: 阴潭坝水 | C27: 靳江 | D27: 59.4 | E27: 11.19 | F27: 1.44 | G27: 袁家湾水库 | H27: 邓家坝、对门山里、和尚桥、新屋湾、陈家坝、小湖桥、金塘咀 | I27: 王家咀

Sheet Sheet2
